Workbook

Sheet Summary
A1: Symbiotec Pharmalab Ltd (NSE: SYMBIOTEC)
A2: All figures in Rs crore unless stated
A3: 1. Company snapshot
A4: Business | B4: Fermentation-based corticosteroid and steroidal-hormone APIs (96% of FY26 revenue), CDMO services and complex injectables (double-chamber vials)
A5: Current price (Rs) | B5: 1279.5 | H5: NSE close, 16 October 2026
A6: Shares outstanding (crore) | B6: 6.4151
A7: Market capitalisation (Rs crore) | B7: =B5*B6 -> 8208.1205
A8: Tax Rate | B8: 0.25168
A9: 2. Financial summary (Rs crore)
A10: Particulars | B10: FY24A | C10: FY25A | D10: FY26A | E10: FY27E | F10: FY28E | G10: FY29E | H10: Notes
A11: Revenue from operations | B11: ='Income Statement'!B9 -> 716.25 | C11: ='Income Statement'!C9 -> 751.55 | D11: ='Income Statement'!D9 -> 869.15 | E11: ='Income Statement'!E9 -> 1027.8108 | F11: ='Income Statement'!F9 -> 1289.9557 | G11: ='Income Statement'!G9 -> 1626.4521
A12: EBITDA | B12: ='Income Statement'!B19 -> 177.04 | C12: ='Income Statement'!C19 -> 206.12 | D12: ='Income Statement'!D19 -> 240.93 | E12: ='Income Statement'!E19 -> 286.99921 | F12: ='Income Statement'!F19 -> 368.94976 | G12: ='Income Statement'!G19 -> 477.75138
A13: EBITDA margin % | B13: ='Income Statement'!B20 -> 0.24475689 | C13: ='Income Statement'!C20 -> 0.27264911 | D13: ='Income Statement'!D20 -> 0.27621351 | E13: ='Income Statement'!E20 -> 0.27801628 | F13: ='Income Statement'!F20 -> 0.2846932 | G13: ='Income Statement'!G20 -> 0.29230063
A14: Profit after tax | B14: ='Income Statement'!B27 -> 100.06 | C14: ='Income Statement'!C27 -> 96.79 | D14: ='Income Statement'!D27 -> 109.89 | E14: ='Income Statement'!E27 -> 124.57846 | F14: ='Income Statement'!F27 -> 177.68036 | G14: ='Income Statement'!G27 -> 251.02805
A15: PAT margin % | B15: ='Income Statement'!B28 -> 0.13833243 | C15: ='Income Statement'!C28 -> 0.12803079 | D15: ='Income Statement'!D28 -> 0.12598308 | E15: ='Income Statement'!E28 -> 0.12067922 | F15: ='Income Statement'!F28 -> 0.13710373 | G15: ='Income Statement'!G28 -> 0.15358544
A16: EPS (Rs) | B16: ='Income Statement'!B31 -> 17.996403 | C16: ='Income Statement'!C31 -> 17.37702 | D16: ='Income Statement'!D31 -> 19.111304 | E16: ='Income Statement'!E31 -> 19.419566 | F16: ='Income Statement'!F31 -> 27.697208 | G16: ='Income Statement'!G31 -> 39.130809
A17: Net debt | B17: ='Balance Sheet'!B40 -> 243.04 | C17: ='Balance Sheet'!C40 -> 517.97 | D17: ='Balance Sheet'!D40 -> 380.87 | E17: ='Balance Sheet'!E40 -> 316.66929 | F17: ='Balance Sheet'!F40 -> 364.59991 | G17: ='Balance Sheet'!G40 -> 329.15268
A18: Net debt / EBITDA | B18: ='Balance Sheet'!B41 -> 1.3727971 | C18: ='Balance Sheet'!C41 -> 2.5129536 | D18: ='Balance Sheet'!D41 -> 1.5808326 | E18: ='Balance Sheet'!E41 -> 1.1033803 | F18: ='Balance Sheet'!F41 -> 0.98821017 | G18: ='Balance Sheet'!G41 -> 0.68896229
A19: Return on equity % | B19: ='Income Statement'!B27/'Balance Sheet'!B24 -> 0.13997538 | C19: ='Income Statement'!C27/'Balance Sheet'!C24 -> 0.11880301 | D19: ='Income Statement'!D27/'Balance Sheet'!D24 -> 0.095590602 | E19: ='Income Statement'!E27/'Balance Sheet'!E24 -> 0.087456103 | F19: ='Income Statement'!F27/'Balance Sheet'!F24 -> 0.11090128 | G19: ='Income Statement'!G27/'Balance Sheet'!G24 -> 0.13545823 | H19: PAT divided by closing total equity
A20: Return on capital employed % | B20: ='Income Statement'!B22/('Balance Sheet'!B24+'Balance Sheet'!B26+'Balance Sheet'!B27+'Balance Sheet'!B33) -> 0.14317678 | C20: ='Income Statement'!C22/('Balance Sheet'!C24+'Balance Sheet'!C26+'Balance Sheet'!C27+'Balance Sheet'!C33) -> 0.11994967 | D20: ='Income Statement'!D22/('Balance Sheet'!D24+'Balance Sheet'!D26+'Balance Sheet'!D27+'Balance Sheet'!D33) -> 0.1218111 | E20: ='Income Statement'!E22/('Balance Sheet'!E24+'Balance Sheet'!E26+'Balance Sheet'!E27+'Balance Sheet'!E33) -> 0.10602393 | F20: ='Income Statement'!F22/('Balance Sheet'!F24+'Balance Sheet'!F26+'Balance Sheet'!F27+'Balance Sheet'!F33) -> 0.13028693 | G20: ='Income Statement'!G22/('Balance Sheet'!G24+'Balance Sheet'!G26+'Balance Sheet'!G27+'Balance Sheet'!G33) -> 0.1571235 | H20: EBIT divided by equity plus borrowings plus lease liabilities. Recovers to 17% by FY29E from 12.2% in FY26
A21: Operating cash flow | B21: ='Cash Flow'!B10 -> 187.5 | C21: ='Cash Flow'!C10 -> 47.29 | D21: ='Cash Flow'!D10 -> 174.59 | E21: ='Cash Flow'!E10 -> 205.07442 | F21: ='Cash Flow'!F10 -> 230.98682 | G21: ='Cash Flow'!G10 -> 301.26096
A22: Free cash flow (OCF less capex) | B22: ='Cash Flow'!B10-'Cash Flow'!B12 -> -22.27 | C22: ='Cash Flow'!C10-'Cash Flow'!C12 -> -260.83 | D22: ='Cash Flow'!D10-'Cash Flow'!D12 -> -51.13 | E22: ='Cash Flow'!E10-'Cash Flow'!E12 -> -44.925579 | F22: ='Cash Flow'!F10-'Cash Flow'!F12 -> 5.9868232 | G22: ='Cash Flow'!G10-'Cash Flow'!G12 -> 101.26096 | H22: Operating cash flow less capital expenditure
A23: 3. Exit valuation - FY29E (year ending 31 March 2029)
A24: Scenario | B24: Exit P/E (x) | C24: FY29E PAT (Rs cr) | D24: Implied Mcap (Rs cr) | E24: Implied price (Rs) | F24: CAGR % | H24: Notes
A25: Current market cap | D25: =B7 -> 8208.1205 | E25: =B5 -> 1279.5
A26: Bear | B26: 30 | C26: ='PAT Scenarios'!B22 -> 129.83914 | D26: =B26*C26 -> 3895.1741 | E26: =D26/B6 -> 607.18836 | F26: =((D26/$D$25)^(1/2.45))-1 -> -0.26231548
A27: Base | B27: 45 | C27: ='Income Statement'!G27 -> 251.02805 | D27: =B27*C27 -> 11296.262 | E27: =D27/B6 -> 1760.8864 | F27: =((D27/$D$25)^(1/2.45))-1 -> 0.1392226
A28: Bull | B28: 60 | C28: ='PAT Scenarios'!D22 -> 335.42065 | D28: =B28*C28 -> 20125.239 | E28: =D28/B6 -> 3137.1668 | F28: =((D28/$D$25)^(1/2.45))-1 -> 0.44204395
A29: 4. Intrinsic and relative value
A30: DCF value per share - Gordon growth terminal (Rs) | B30: ='DCF and Comps'!E23 -> 164.13301
A31: Implied price from peer median P/E (Rs) | B31: ='DCF and Comps'!B50 -> 1170.8284
A32: Implied price from peer median EV/EBITDA (Rs) | B32: ='DCF and Comps'!B54 -> 1579.5152

Sheet Income Statement
A1: Particulars | B1: FY24A | C1: FY25A | D1: FY26A | E1: FY27E | F1: FY28E | G1: FY29E | H1: Notes / basis of forecast
A2: A. Revenue build (by business vertical)
A3: API (active pharmaceutical ingredient) revenue | B3: 716.25 | C3: 744.75 | D3: 835.01 | E3: =D3*(1+E4) -> 901.8108 | F3: =E3*(1+F4) -> 973.95566 | G3: =F3*(1+G4) -> 1051.8721
A4: API revenue growth % | C4: =C3/B3-1 -> 0.039790576 | D4: =D3/C3-1 -> 0.12119503 | E4: 0.08 | F4: 0.08 | G4: 0.08 | H4: Growth of 8% assumes volume from the new 700 KL fermentation capacity, further share gains and China-plus-one, since the end markets themselves grow only 1.6-3.0% (corticosteroid) and 1.0-2.5% (hormones)
A5: Complex injectables (DCV) revenue | B5: 0 | C5: 0 | D5: 33.05 | E5: =E41 -> 66 | F5: =F41 -> 176 | G5: =G41 -> 294.58 | H5: Note below
A6: Complex injectables growth % | E6: =E5/D5-1 -> 0.99697428 | F6: =F5/E5-1 -> 1.6666667 | G6: =G5/F5-1 -> 0.67375
A7: CDMO services revenue | B7: 0 | C7: 6.8 | D7: 1.09 | E7: =E50 -> 60 | F7: =F50 -> 140 | G7: =G50 -> 280 | H7: Note below
A8: CDMO revenue growth % | D8: =D7/C7-1 -> -0.83970588 | E8: =E7/D7-1 -> 54.045872 | F8: =F7/E7-1 -> 1.3333333 | G8: =G7/F7-1 -> 1
A9: Total revenue from operations | B9: =SUM(B3,B5,B7) -> 716.25 | C9: =SUM(C3,C5,C7) -> 751.55 | D9: =SUM(D3,D5,D7) -> 869.15 | E9: =SUM(E3,E5,E7) -> 1027.8108 | F9: =SUM(F3,F5,F7) -> 1289.9557 | G9: =SUM(G3,G5,G7) -> 1626.4521
A10: Revenue growth % | C10: =C9/B9-1 -> 0.049284468 | D10: =D9/C9-1 -> 0.15647661 | E10: =E9/D9-1 -> 0.18254709 | F10: =F9/E9-1 -> 0.25505167 | G10: =G9/F9-1 -> 0.26085893
A11: B. Profit and loss
A12: Other income | B12: 7.08 | C12: 4.44 | D12: 3.11 | E12: 4.5 | F12: 6 | G12: 8
A13: Total income | B13: =B9+B12 -> 723.33 | C13: =C9+C12 -> 755.99 | D13: =D9+D12 -> 872.26 | E13: =E9+E12 -> 1032.3108 | F13: =F9+F12 -> 1295.9557 | G13: =G9+G12 -> 1634.4521
A14: Cost of materials, packing and consumables consumed | B14: 312.6 | C14: 285.5 | D14: 302.09 | E14: =E60 -> 355.53378 | F14: =F60 -> 441.68448 | G14: =G60 -> 549.65824 | H14: Note below
A15: Purchases of stock-in-trade | B15: 8.4 | C15: 11.9 | D15: 13.41 | E15: =E62*E9 -> 15.857956 | F15: =F62*F9 -> 19.902555 | G15: =G62*G9 -> 25.094314 | H15: Note below
A16: Employee benefits expense | B16: 104.1 | C16: 122.3 | D16: 154.34 | E16: =E68*E9 -> 182.95032 | F16: =F68*F9 -> 225.74224 | G16: =G68*G9 -> 279.74976 | H16: Note below
A17: Other expenses | B17: 121.19 | C17: 130.17 | D17: 161.49 | E17: =E74*E9 -> 190.96953 | F17: =F74*F9 -> 239.67663 | G17: =G74*G9 -> 302.19841 | H17: Note below
A18: Total operating expenses | B18: =SUM(B14,B15,B16,B17) -> 546.29 | C18: =SUM(C14,C15,C16,C17) -> 549.87 | D18: =SUM(D14,D15,D16,D17) -> 631.33 | E18: =SUM(E14,E15,E16,E17) -> 745.31159 | F18: =SUM(F14,F15,F16,F17) -> 927.00591 | G18: =SUM(G14,G15,G16,G17) -> 1156.7007
A19: EBITDA | B19: =B13-B18 -> 177.04 | C19: =C13-C18 -> 206.12 | D19: =D13-D18 -> 240.93 | E19: =E13-E18 -> 286.99921 | F19: =F13-F18 -> 368.94976 | G19: =G13-G18 -> 477.75138
A20: EBITDA margin % | B20: =B19/B13 -> 0.24475689 | C20: =C19/C13 -> 0.27264911 | D20: =D19/D13 -> 0.27621351 | E20: =E19/E13 -> 0.27801628 | F20: =F19/F13 -> 0.2846932 | G20: =G19/G13 -> 0.29230063 | H20: Rises from 27.6% to 29.2% as injectables and CDMO scale
A21: Depreciation and amortisation | B21: 38.82 | C21: 43.1 | D21: 53.28 | E21: ='Balance Sheet'!E52 -> 99.605254 | F21: ='Balance Sheet'!F52 -> 110.96225 | G21: ='Balance Sheet'!G52 -> 119.32489 | H21: Note in "Balance sheet" sheet
A22: EBIT | B22: =B19-B21 -> 138.22 | C22: =C19-C21 -> 163.02 | D22: =D19-D21 -> 187.65 | E22: =E19-E21 -> 187.39396 | F22: =F19-F21 -> 257.98751 | G22: =G19-G21 -> 358.42649
A23: Finance cost | B23: 7.24 | C23: 16.04 | D23: 25.33 | E23: =0.057*AVERAGE('Balance Sheet'!D26+'Balance Sheet'!D27+'Balance Sheet'!D33,'Balance Sheet'!E26+'Balance Sheet'!E27+'Balance Sheet'!E33) -> 20.916435 | F23: =0.057*AVERAGE('Balance Sheet'!E26+'Balance Sheet'!E27+'Balance Sheet'!E33,'Balance Sheet'!F26+'Balance Sheet'!F27+'Balance Sheet'!F33) -> 20.5485 | G23: =0.057*AVERAGE('Balance Sheet'!F26+'Balance Sheet'!F27+'Balance Sheet'!F33,'Balance Sheet'!G26+'Balance Sheet'!G27+'Balance Sheet'!G33) -> 22.971 | H23: FY26 is about 5.4%. Finance cost rises in FY28 and FY29 because debt rises
A24: Exceptional item (impact of new labour codes on gratuity and leave encashment) | B24: 0 | C24: 0 | D24: -8.99 | E24: 0 | F24: 0 | G24: 0 | H24: One-off non-cash FY26 charge, with a Rs 21.07 million deferred tax benefit and compensation restructured from 1 April 2026. No further charge assumed
A25: Profit before tax | B25: =B19-B21-B23+B24 -> 130.98 | C25: =C19-C21-C23+C24 -> 146.98 | D25: =D19-D21-D23+D24 -> 153.33 | E25: =E19-E21-E23+E24 -> 166.47752 | F25: =F19-F21-F23+F24 -> 237.43901 | G25: =G19-G21-G23+G24 -> 335.45549
A26: Tax expense | B26: 30.92 | C26: 50.19 | D26: 43.44 | E26: =E25*E76 -> 41.899063 | F26: =F25*F76 -> 59.758649 | G26: =G25*G76 -> 84.427438
A27: Profit after tax | B27: =B25-B26 -> 100.06 | C27: =C25-C26 -> 96.79 | D27: =D25-D26 -> 109.89 | E27: =E25-E26 -> 124.57846 | F27: =F25-F26 -> 177.68036 | G27: =G25-G26 -> 251.02805
A28: PAT margin % | B28: =B27/B13 -> 0.13833243 | C28: =C27/C13 -> 0.12803079 | D28: =D27/D13 -> 0.12598308 | E28: =E27/E13 -> 0.12067922 | F28: =F27/F13 -> 0.13710373 | G28: =G27/G13 -> 0.15358544
A29: PAT growth % | C29: =C27/B27-1 -> -0.032680392 | D29: =D27/C27-1 -> 0.13534456 | E29: =E27/D27-1 -> 0.13366512 | F29: =F27/E27-1 -> 0.42625263 | G29: =G27/F27-1 -> 0.412807
A30: Weighted average shares outstanding (crore) | B30: 5.56 | C30: 5.57 | D30: 5.75 | E30: =Summary!$B$6 -> 6.4151 | F30: =Summary!$B$6 -> 6.4151 | G30: =Summary!$B$6 -> 6.4151
A31: Basic EPS (Rs) | B31: =B27/B30 -> 17.996403 | C31: =C27/C30 -> 17.37702 | D31: =D27/D30 -> 19.111304 | E31: =E27/E30 -> 19.419566 | F31: =F27/F30 -> 27.697208 | G31: =G27/G30 -> 39.130809
A34: Notes to accounts | B34: FY24A | C34: FY25A | D34: FY26A | E34: FY27E | F34: FY28E | G34: FY29E
A36: Complex injectables (DCV)
A37: Implied units at Rs 220/vial | D37: =(D41*10000000)/$B$43 -> 1502272.7 | E37: =E38*E39 -> 3000000 | F37: =F38*F39 -> 8000000 | G37: =(G41*10000000)/$B$43 -> 13390000 | H37: First revenue in FY26 at Rs 330.50 million. The Mhow facility supports 20 million DCV units a year and the two lead products address a US market of Rs 2,678 cr (USD 288 million). FY29 is Rs 294.6 cr at 67% utilisation. Nameplate at Rs 220/vial is Rs 440 cr.
A38: Mhow nameplate total capacity (number of vials) | E38: 20000000 | F38: 20000000 | G38: 20000000
A39: % of Mhow capacity utilised | E39: 0.15 | F39: 0.4 | G39: =G37/G38 -> 0.6695
A40: % of US market targeted | G40: 0.11
A41: Complex injectables (DCV) revenue | B41: 0 | C41: 0 | D41: 33.05 | E41: =(E37*$B$43)/10000000 -> 66 | F41: =(F37*$B$43)/10000000 -> 176 | G41: =B42*G40 -> 294.58
A42: Total US Market size by FY29 | B42: 2678
A43: Price/Vial | B43: 220
...

Sheet Balance Sheet
A1: Particulars | B1: FY24A | C1: FY25A | D1: FY26A | E1: FY27E | F1: FY28E | G1: FY29E | H1: Notes / basis of forecast
A2: ASSETS
A3: Non-current assets
A4: Property, plant and equipment (net) | B4: 411.19 | C4: 401.54 | D4: 1084.39 | E4: =E53 -> 1234.7847 | F4: =F53 -> 1348.8225 | G4: =G53 -> 1429.4976 | H4: Note below
A5: Capital work-in-progress | B5: 208.32 | C5: 568.17 | D5: 64.48 | E5: =$D$5 -> 64.48 | F5: =$D$5 -> 64.48 | G5: =$D$5 -> 64.48 | H5: Held flat
A6: Investment properties | B6: 37 | C6: 36.47 | D6: 35.94 | E6: 35.94 | F6: 35.94 | G6: 35.94 | H6: Held flat; immaterial to the model
A7: Intangible assets | B7: 0.24 | C7: 0 | D7: 0 | E7: 0 | F7: 0 | G7: 0
A8: Other non-current assets | B8: 129.71 | C8: 80.6 | D8: 110.4 | E8: =E57*'Income Statement'!E13 -> 130.65727 | F8: =F57*'Income Statement'!F13 -> 164.02621 | G8: =G57*'Income Statement'!G13 -> 206.86895 | H8: Note below
A9: Total non-current assets | B9: =SUM(B4,B5,B6,B7,B8) -> 786.46 | C9: =SUM(C4,C5,C6,C7,C8) -> 1086.78 | D9: =SUM(D4,D5,D6,D7,D8) -> 1295.21 | E9: =SUM(E4,E5,E6,E7,E8) -> 1465.862 | F9: =SUM(F4,F5,F6,F7,F8) -> 1613.2687 | G9: =SUM(G4,G5,G6,G7,G8) -> 1736.7866
A10: Current assets
A11: Inventories | B11: 335.8 | C11: 261.5 | D11: 236.9 | E11: =(E59*'Income Statement'!E14)/365 -> 262.99759 | F11: =(F59*'Income Statement'!F14)/365 -> 320.67504 | G11: =(G59*'Income Statement'!G14)/365 -> 391.53738 | H11: Note below
A12: Trade receivables | B12: 125.7 | C12: 175.7 | D12: 197.6 | E12: =(E60*'Income Statement'!E9)/365 -> 233.72136 | F12: =(F60*'Income Statement'!F9)/365 -> 293.33238 | G12: =(G60*'Income Statement'!G9)/365 -> 369.85076 | H12: Note below
A13: Cash and cash equivalents | B13: ='Cash Flow'!B33 -> 7.5 | C13: ='Cash Flow'!C33 -> 26.39 | D13: ='Cash Flow'!D33 -> 10.04 | E13: ='Cash Flow'!E33 -> 26.330713 | F13: ='Cash Flow'!F33 -> 13.400095 | G13: ='Cash Flow'!G33 -> 98.847315 | H13: Links to the closing cash on the Cash Flow sheet. Cash is the plug that closes the model
A14: Other current assets | B14: 39.3 | C14: 29.4 | D14: 41 | E14: =E64*'Income Statement'!E9 -> 48.311562 | F14: =F64*'Income Statement'!F9 -> 60.633506 | G14: =G64*'Income Statement'!G9 -> 76.450298 | H14: Note below
A15: Total current assets | B15: =SUM(B11,B12,B13,B14) -> 508.3 | C15: =SUM(C11,C12,C13,C14) -> 492.99 | D15: =SUM(D11,D12,D13,D14) -> 485.54 | E15: =SUM(E11,E12,E13,E14) -> 571.36123 | F15: =SUM(F11,F12,F13,F14) -> 688.04102 | G15: =SUM(G11,G12,G13,G14) -> 936.68575
A16: TOTAL ASSETS | B16: =B9+B15 -> 1294.76 | C16: =C9+C15 -> 1579.77 | D16: =D9+D15 -> 1780.75 | E16: =E9+E15 -> 2037.2232 | F16: =F9+F15 -> 2301.3097 | G16: =G9+G15 -> 2673.4723
A18: EQUITY AND LIABILITIES
A19: Equity
A20: Equity share capital | B20: 10.94 | C20: 10.94 | D20: 12.55 | E20: =Summary!B6*2 -> 12.8302 | F20: =E20 -> 12.8302 | G20: =F20 -> 12.8302 | H20: Face value Rs 2 per share; 6.4151 cr shares post-IPO
A21: Other equity (reserves and surplus) | B21: 703.9 | C21: 803.77 | D21: 1137.04 | E21: =D21+'Income Statement'!E27+'Cash Flow'!E23+'Cash Flow'!E24-(E20-D20) -> 1411.6383 | F21: =E21+'Income Statement'!F27+'Cash Flow'!F23+'Cash Flow'!F24-(F20-E20) -> 1589.3186 | G21: =F21+'Income Statement'!G27+'Cash Flow'!G23+'Cash Flow'!G24-(G20-F20) -> 1840.3467 | H21: Prior balance plus PAT plus equity issued, less the slice of new money credited to share capital. FY26 included a Rs 193.19 cr rights issue and Rs 25.01 cr of ESOP exercise
A22: Equity attributable to owners of the Company | B22: =SUM(B20:B21) -> 714.84 | C22: =SUM(C20:C21) -> 814.71 | D22: =SUM(D20:D21) -> 1149.59 | E22: =SUM(E20:E21) -> 1424.4685 | F22: =SUM(F20:F21) -> 1602.1488 | G22: =SUM(G20:G21) -> 1853.1769
A23: Non-controlling interest | B23: 0 | C23: 0 | D23: 0 | E23: 0 | F23: 0 | G23: 0
A24: Total equity | B24: =B22+B23 -> 714.84 | C24: =C22+C23 -> 814.71 | D24: =D22+D23 -> 1149.59 | E24: =E22+E23 -> 1424.4685 | F24: =F22+F23 -> 1602.1488 | G24: =G22+G23 -> 1853.1769
A25: Non-current liabilities
A26: Long-term borrowings | B26: 197.21 | C26: 253.01 | D26: 68.41 | E26: 45 | F26: 45 | G26: 45
A27: Lease liabilities | B27: 3.33 | C27: 3.44 | D27: 3 | E27: 3 | F27: 3 | G27: 3
A28: Deferred tax liabilities (net) | B28: 19.9 | C28: 22 | D28: 5.8 | E28: 5.8 | F28: 5.8 | G28: 5.8 | H28: Held flat
A29: Long-term provisions | B29: 10.7 | C29: 13.3 | D29: 21.6 | E29: 21.6 | F29: 21.6 | G29: 21.6 | H29: Gratuity and leave encashment. Held flat
A30: Other non-current liabilities | B30: 0 | C30: 1.5 | D30: 5.8 | E30: 5.8 | F30: 5.8 | G30: 5.8 | H30: Held flat
A31: Total non-current liabilities | B31: =SUM(B26:B30) -> 231.14 | C31: =SUM(C26:C30) -> 293.25 | D31: =SUM(D26:D30) -> 104.61 | E31: =SUM(E26:E30) -> 81.2 | F31: =SUM(F26:F30) -> 81.2 | G31: =SUM(G26:G30) -> 81.2
A32: Current liabilities
A33: Short-term borrowings (including current maturities of long-term borrowings) | B33: 50 | C33: 287.91 | D33: 319.5 | E33: 295 | F33: 330 | G33: 380 | H33: FY26 per the RHP at Rs 3,195.01 million. Falls in FY27E as the Rs 112.5 cr of fresh-issue proceeds repays the SBI and HDFC cash credit facilities
A34: Trade payables | B34: 227.6 | C34: 88.5 | D34: 138.3 | E34: =(E61*'Income Statement'!E14)/365 -> 155.85042 | F34: =(F61*'Income Statement'!F14)/365 -> 187.56464 | G34: =(G61*'Income Statement'!G14)/365 -> 233.41651 | H34: Note below
A35: Provisions | B35: 3.6 | C35: 3.6 | D35: 3.6 | E35: 3.6 | F35: 3.6 | G35: 3.6 | H35: Held flat
A36: Other current liabilities | B36: 67.58 | C36: 91.8 | D36: 65.15 | E36: =E67*'Income Statement'!E13 -> 77.10436 | F36: =F67*'Income Statement'!F13 -> 96.796267 | G36: =G67*'Income Statement'!G13 -> 122.07892 | H36: Note below
A37: Total current liabilities | B37: =SUM(B33,B34,B35,B36) -> 348.78 | C37: =SUM(C33,C34,C35,C36) -> 471.81 | D37: =SUM(D33,D34,D35,D36) -> 526.55 | E37: =SUM(E33,E34,E35,E36) -> 531.55478 | F37: =SUM(F33,F34,F35,F36) -> 617.96091 | G37: =SUM(G33,G34,G35,G36) -> 739.09543
A38: TOTAL EQUITY AND LIABILITIES | B38: =B24+B31+B37 -> 1294.76 | C38: =C24+C31+C37 -> 1579.77 | D38: =D24+D31+D37 -> 1780.75 | E38: =E24+E31+E37 -> 2037.2232 | F38: =F24+F31+F37 -> 2301.3097 | G38: =G24+G31+G37 -> 2673.4723
A39: Balance check (total assets less total equity and liabilities) | B39: =B16-B38 -> 0 | C39: =C16-C38 -> 0 | D39: =D16-D38 -> 0 | E39: =E16-E38 -> 0 | F39: =F16-F38 -> 0 | G39: =G16-G38 -> 0
A40: Net debt (borrowings plus lease liabilities less cash) | B40: =B26+B33+B27-B13 -> 243.04 | C40: =C26+C33+C27-C13 -> 517.97 | D40: =D26+D33+D27-D13 -> 380.87 | E40: =E26+E33+E27-E13 -> 316.66929 | F40: =F26+F33+F27-F13 -> 364.59991 | G40: =G26+G33+G27-G13 -> 329.15268
A41: Net debt / EBITDA | B41: =B40/'Income Statement'!B19 -> 1.3727971 | C41: =C40/'Income Statement'!C19 -> 2.5129536 | D41: =D40/'Income Statement'!D19 -> 1.5808326 | E41: =E40/'Income Statement'!E19 -> 1.1033803 | F41: =F40/'Income Statement'!F19 -> 0.98821017 | G41: =G40/'Income Statement'!G19 -> 0.68896229
...

Sheet Cash Flow
A1: Particulars | B1: FY24A | C1: FY25A | D1: FY26A | E1: FY27E | F1: FY28E | G1: FY29E | H1: Notes / basis of forecast
A2: A. Cash flow from operating activities
A3: Profit before tax | B3: ='Income Statement'!B25 -> 130.98 | C3: ='Income Statement'!C25 -> 146.98 | D3: ='Income Statement'!D25 -> 153.33 | E3: ='Income Statement'!E25 -> 166.47752 | F3: ='Income Statement'!F25 -> 237.43901 | G3: ='Income Statement'!G25 -> 335.45549
A4: Add: Depreciation and amortisation | B4: ='Income Statement'!B21 -> 38.82 | C4: ='Income Statement'!C21 -> 43.1 | D4: ='Income Statement'!D21 -> 53.28 | E4: ='Income Statement'!E21 -> 99.605254 | F4: ='Income Statement'!F21 -> 110.96225 | G4: ='Income Statement'!G21 -> 119.32489 | H4: Non-cash charge added back
A5: Add: Finance cost | B5: ='Income Statement'!B23 -> 7.24 | C5: ='Income Statement'!C23 -> 16.04 | D5: ='Income Statement'!D23 -> 25.33 | E5: ='Income Statement'!E23 -> 20.916435 | F5: ='Income Statement'!F23 -> 20.5485 | G5: ='Income Statement'!G23 -> 22.971 | H5: Added back here and paid in financing activities
A6: Add/(Less): Other non-cash and translation adjustments (FX, asset disposals, share of joint venture loss) | B6: -59.68 | C6: -27.96 | D6: -28.16 | E6: 0 | F6: 0 | G6: 0 | H6: Reconciled to the reported operating cash flow for FY24-FY26. The main items are unrealised foreign exchange movements (Rs 5.96 cr in FY24, Rs 0.95 cr in FY25, Rs 2.19 cr in FY26), losses or gains on asset disposals, and the joint venture share of loss. Zero from FY27E
A7: Operating profit before working capital changes | B7: =SUM(B3:B6) -> 117.36 | C7: =SUM(C3:C6) -> 178.16 | D7: =SUM(D3:D6) -> 203.78 | E7: =SUM(E3:E6) -> 286.99921 | F7: =SUM(F3:F6) -> 368.94976 | G7: =SUM(G3:G6) -> 477.75138
A8: Add/(Less): Change in operating working capital | B8: 101.06 | C8: =-'Balance Sheet'!C43 -> -80.68 | D8: =-'Balance Sheet'!D43 -> 14.25 | E8: =-'Balance Sheet'!E43 -> -40.025729 | F8: =-'Balance Sheet'!F43 -> -78.204287 | G8: =-'Balance Sheet'!G43 -> -92.062985
A9: Less: Income tax paid | B9: -30.92 | C9: -50.19 | D9: -43.44 | E9: =-'Income Statement'!E26 -> -41.899063 | F9: =-'Income Statement'!F26 -> -59.758649 | G9: =-'Income Statement'!G26 -> -84.427438
A10: Net cash from operating activities | B10: =B7+B8+B9 -> 187.5 | C10: =C7+C8+C9 -> 47.29 | D10: =D7+D8+D9 -> 174.59 | E10: =E7+E8+E9 -> 205.07442 | F10: =F7+F8+F9 -> 230.98682 | G10: =G7+G8+G9 -> 301.26096
A11: B. Cash flow from investing activities
A12: Capital expenditure on property, plant, equipment and CWIP | B12: 209.77 | C12: 308.12 | D12: 225.72 | E12: ='Balance Sheet'!E51 -> 250 | F12: ='Balance Sheet'!F51 -> 225 | G12: ='Balance Sheet'!G51 -> 200 | H12: FY27E-FY29E assumed at Rs 250 / 225 / 200 cr (linked to Balance Sheet E51:G51)
A13: Purchase of property, plant and equipment, CWIP and capital advances | B13: =-B12 -> -209.77 | C13: =-C12 -> -308.12 | D13: =-D12 -> -225.72 | E13: =-E12 -> -250 | F13: =-F12 -> -225 | G13: =-G12 -> -200 | H13: Negative of the capex line above
A14: Proceeds from sale of property, plant and equipment | B14: 0 | C14: -0.04 | D14: 1.32 | E14: 0 | F14: 0 | G14: 0
A15: Fixed deposits and margin money placed | B15: -2.73 | C15: -0.71 | D15: 0 | E15: 0 | F15: 0 | G15: 0
A16: Fixed deposits and margin money matured | B16: 0 | C16: 3.01 | D16: 0.16 | E16: 0 | F16: 0 | G16: 0
A17: Purchase of non-current investments | B17: 0 | C17: -1.45 | D17: -3.04 | E17: 0 | F17: 0 | G17: 0
A18: Add/(Less): Increase in other non-current assets | B18: 0 | C18: 0 | D18: 0 | E18: =-('Balance Sheet'!E8-'Balance Sheet'!D8) -> -20.257272 | F18: =-('Balance Sheet'!F8-'Balance Sheet'!E8) -> -33.368942 | G18: =-('Balance Sheet'!G8-'Balance Sheet'!F8) -> -42.84274 | H18: Any growth in investments, loans and capital advances is an investing outflow
A19: Interest received | B19: 0.33 | C19: 0.75 | D19: 0.34 | E19: 0 | F19: 0 | G19: 0 | H19: Zero from FY27E to avoid double counting, since other income is treated as operating and flows through profit before tax
A20: Other investing activities (foreign exchange gain on investing) | B20: 5.72 | C20: 0 | D20: 0 | E20: 0 | F20: 0 | G20: 0
A21: Net cash used in investing activities | B21: =SUM(B13:B20) -> -206.45 | C21: =SUM(C13:C20) -> -306.56 | D21: =SUM(D13:D20) -> -226.94 | E21: =SUM(E13:E20) -> -270.25727 | F21: =SUM(F13:F20) -> -258.36894 | G21: =SUM(G13:G20) -> -242.84274 | H21: Ties to the reported Rs 206.45 / 306.56 / 226.94 cr for FY24-FY26
A22: C. Cash flow from financing activities
A23: Proceeds from issue of equity shares (rights issue and IPO) | B23: 0 | C23: 0 | D23: 193.19 | E23: 150.3 | F23: 0 | G23: 0 | H23: FY26 was a rights issue. FY27E is the Rs 150.30 cr IPO fresh issue, taken at gross because offer expenses are not separately quantified in the document
A24: Proceeds from exercise of employee stock options | B24: 0 | C24: 0 | D24: 25.01 | E24: 0 | F24: 0 | G24: 0 | H24: FY26 only
A25: Proceeds/(repayment) of long-term borrowings | B25: 84.31 | C25: 115.61 | D25: -212.1 | E25: ='Balance Sheet'!E26-'Balance Sheet'!D26 -> -23.41 | F25: ='Balance Sheet'!F26-'Balance Sheet'!E26 -> 0 | G25: ='Balance Sheet'!G26-'Balance Sheet'!F26 -> 0
A26: Proceeds/(repayment) of short-term borrowings (net) | B26: -54.98 | C26: 178.36 | D26: 57.21 | E26: ='Balance Sheet'!E33-'Balance Sheet'!D33 -> -24.5 | F26: ='Balance Sheet'!F33-'Balance Sheet'!E33 -> 35 | G26: ='Balance Sheet'!G33-'Balance Sheet'!F33 -> 50
A27: Repayment of lease liabilities (principal) | B27: -0.16 | C27: -0.24 | D27: -0.91 | E27: 0 | F27: 0 | G27: 0 | H27: Zero from FY27E as lease liabilities are held flat
A28: Interest paid on lease liabilities | B28: -0.29 | C28: -0.36 | D28: -0.37 | E28: 0 | F28: 0 | G28: 0
A29: Finance cost paid (excluding lease interest) | B29: -7.04 | C29: -15.21 | D29: -26.03 | E29: =-'Income Statement'!E23 -> -20.916435 | F29: =-'Income Statement'!F23 -> -20.5485 | G29: =-'Income Statement'!G23 -> -22.971 | H29: Equals the finance cost charge in each forecast year
A30: Net cash generated from financing activities | B30: =SUM(B23:B29) -> 21.84 | C30: =SUM(C23:C29) -> 278.16 | D30: =SUM(D23:D29) -> 36 | E30: =SUM(E23:E29) -> 81.473565 | F30: =SUM(F23:F29) -> 14.4515 | G30: =SUM(G23:G29) -> 27.029
A31: Net increase/(decrease) in cash and cash equivalents | B31: =B10+B21+B30 -> 2.89 | C31: =C10+C21+C30 -> 18.89 | D31: =D10+D21+D30 -> -16.35 | E31: =E10+E21+E30 -> 16.290713 | F31: =F10+F21+F30 -> -12.930618 | G31: =G10+G21+G30 -> 85.44722
A32: Cash and cash equivalents at the beginning of the year | B32: 4.61 | C32: =B33 -> 7.5 | D32: =C33 -> 26.39 | E32: =D33 -> 10.04 | F32: =E33 -> 26.330713 | G32: =F33 -> 13.400095
A33: Cash and cash equivalents at the end of the year | B33: =B31+B32 -> 7.5 | C33: =C31+C32 -> 26.39 | D33: =D31+D32 -> 10.04 | E33: =E31+E32 -> 26.330713 | F33: =F31+F32 -> 13.400095 | G33: =G31+G32 -> 98.847315

Sheet DCF and Comps
A1: Discounted cash flow assumptions
A2: WACC | B2: ='DCF backend data'!B30 -> 0.10850588 | H2: Calculations done in sheet "DCF Backend Data"
A3: Terminal growth rate | B3: 0.05 | H3: Long-run nominal growth for an Indian API and injectables manufacturer
A4: Tax rate on EBIT | B4: =Summary!B8 -> 0.25168 | H4: 22% plus surcharge and cess
A6: Free cash flow to the firm (Rs crore)
A7: Particulars | E7: FY27E | F7: FY28E | G7: FY29E | H7: Notes / basis
A8: EBIT | E8: ='Income Statement'!E22 -> 187.39396 | F8: ='Income Statement'!F22 -> 257.98751 | G8: ='Income Statement'!G22 -> 358.42649 | H8: From the Income Statement
A9: Less: Tax on EBIT | E9: =-E8*$B$4 -> -47.163311 | F9: =-F8*$B$4 -> -64.930295 | G9: =-G8*$B$4 -> -90.208779
A10: NOPAT | E10: =E8+E9 -> 140.23065 | F10: =F8+F9 -> 193.05721 | G10: =G8+G9 -> 268.21771
A11: Add: Depreciation and amortisation | E11: ='Income Statement'!E21 -> 99.605254 | F11: ='Income Statement'!F21 -> 110.96225 | G11: ='Income Statement'!G21 -> 119.32489 | H11: Non-cash charge added back
A12: Less: Capital expenditure | E12: =-'Cash Flow'!E12 -> -250 | F12: =-'Cash Flow'!F12 -> -225 | G12: =-'Cash Flow'!G12 -> -200 | H12: Links to the capex line on the Cash Flow sheet
A13: Less: Increase in operating working capital | E13: =-'Balance Sheet'!E43 -> -40.025729 | F13: =-'Balance Sheet'!F43 -> -78.204287 | G13: =-'Balance Sheet'!G43 -> -92.062985 | H13: Links to the working capital movement on the Balance Sheet
A14: Free cash flow to the firm | E14: =E10+E11+E12+E13 -> -50.189828 | F14: =F10+F11+F12+F13 -> 0.81517677 | G14: =G10+G11+G12+G13 -> 95.479619
A15: Discount factor | E15: =1/(1+$B$2)^1 -> 0.90211519 | F15: =1/(1+$B$2)^2 -> 0.81381182 | G15: =1/(1+$B$2)^3 -> 0.73415201
A16: Present value of free cash flow | E16: =E14*E15 -> -45.277006 | F16: =F14*F15 -> 0.66340049 | G16: =G14*G15 -> 70.096554
A17: Terminal value at FY29E (Gordon growth) | E17: =G14*(1+$B$3)/($B$2-$B$3) -> 1713.5644 | H17: FY30E free cash flow capitalised at WACC less terminal growth
A18: Present value of terminal value | E18: =E17*G15 -> 1258.0168
A19: Enterprise value | E19: =SUM(E16:G16)+E18 -> 1283.4997 | H19: Present value of the explicit forecast plus the terminal value
A20: Less: Net debt | E20: ='Balance Sheet'!D40-'Cash Flow'!E23 -> 230.57 | H20: Borrowings plus lease liabilities less cash
A21: Equity value | E21: =E19-E20 -> 1052.9297
A22: Shares outstanding (crore) | E22: =Summary!B6 -> 6.4151 | H22: Post-IPO share count
A23: DCF value per share - Gordon growth terminal (Rs) | E23: =E21/E22 -> 164.13301
A25: DCF sensitivity - value per share (Rs)
A26: WACC / terminal growth | B26: 0.04 | C26: 0.045 | D26: 0.05 | E26: 0.055 | F26: 0.06
A27: 0.085 | B27: =(NPV($A27,E$14:G$14)+(G$14*(1+B$26)/($A27-B$26))/(1+$A27)^3-$E$20)/$E$22 -> 237.90942 | C27: =(NPV($A27,E$14:G$14)+(G$14*(1+C$26)/($A27-C$26))/(1+$A27)^3-$E$20)/$E$22 -> 273.02867 | D27: =(NPV($A27,E$14:G$14)+(G$14*(1+D$26)/($A27-D$26))/(1+$A27)^3-$E$20)/$E$22 -> 318.182 | E27: =(NPV($A27,E$14:G$14)+(G$14*(1+E$26)/($A27-E$26))/(1+$A27)^3-$E$20)/$E$22 -> 378.38643 | F27: =(NPV($A27,E$14:G$14)+(G$14*(1+F$26)/($A27-F$26))/(1+$A27)^3-$E$20)/$E$22 -> 462.67264
A28: 0.09 | B28: =(NPV($A28,E$14:G$14)+(G$14*(1+B$26)/($A28-B$26))/(1+$A28)^3-$E$20)/$E$22 -> 207.53162 | C28: =(NPV($A28,E$14:G$14)+(G$14*(1+C$26)/($A28-C$26))/(1+$A28)^3-$E$20)/$E$22 -> 235.36986 | D28: =(NPV($A28,E$14:G$14)+(G$14*(1+D$26)/($A28-D$26))/(1+$A28)^3-$E$20)/$E$22 -> 270.16766 | E28: =(NPV($A28,E$14:G$14)+(G$14*(1+E$26)/($A28-E$26))/(1+$A28)^3-$E$20)/$E$22 -> 314.90768 | F28: =(NPV($A28,E$14:G$14)+(G$14*(1+F$26)/($A28-F$26))/(1+$A28)^3-$E$20)/$E$22 -> 374.56105
A29: 0.095 | B29: =(NPV($A29,E$14:G$14)+(G$14*(1+B$26)/($A29-B$26))/(1+$A29)^3-$E$20)/$E$22 -> 182.71136 | C29: =(NPV($A29,E$14:G$14)+(G$14*(1+C$26)/($A29-C$26))/(1+$A29)^3-$E$20)/$E$22 -> 205.28057 | D29: =(NPV($A29,E$14:G$14)+(G$14*(1+D$26)/($A29-D$26))/(1+$A29)^3-$E$20)/$E$22 -> 232.86516 | E29: =(NPV($A29,E$14:G$14)+(G$14*(1+E$26)/($A29-E$26))/(1+$A29)^3-$E$20)/$E$22 -> 267.34589 | F29: =(NPV($A29,E$14:G$14)+(G$14*(1+F$26)/($A29-F$26))/(1+$A29)^3-$E$20)/$E$22 -> 311.67827
A30: 0.1 | B30: =(NPV($A30,E$14:G$14)+(G$14*(1+B$26)/($A30-B$26))/(1+$A30)^3-$E$20)/$E$22 -> 162.05871 | C30: =(NPV($A30,E$14:G$14)+(G$14*(1+C$26)/($A30-C$26))/(1+$A30)^3-$E$20)/$E$22 -> 180.6958 | D30: =(NPV($A30,E$14:G$14)+(G$14*(1+D$26)/($A30-D$26))/(1+$A30)^3-$E$20)/$E$22 -> 203.0603 | E30: =(NPV($A30,E$14:G$14)+(G$14*(1+E$26)/($A30-E$26))/(1+$A30)^3-$E$20)/$E$22 -> 230.39468 | F30: =(NPV($A30,E$14:G$14)+(G$14*(1+F$26)/($A30-F$26))/(1+$A30)^3-$E$20)/$E$22 -> 264.56267
A31: 0.105 | B31: =(NPV($A31,E$14:G$14)+(G$14*(1+B$26)/($A31-B$26))/(1+$A31)^3-$E$20)/$E$22 -> 144.61142 | C31: =(NPV($A31,E$14:G$14)+(G$14*(1+C$26)/($A31-C$26))/(1+$A31)^3-$E$20)/$E$22 -> 160.23887 | D31: =(NPV($A31,E$14:G$14)+(G$14*(1+D$26)/($A31-D$26))/(1+$A31)^3-$E$20)/$E$22 -> 178.70767 | E31: =(NPV($A31,E$14:G$14)+(G$14*(1+E$26)/($A31-E$26))/(1+$A31)^3-$E$20)/$E$22 -> 200.87024 | F31: =(NPV($A31,E$14:G$14)+(G$14*(1+F$26)/($A31-F$26))/(1+$A31)^3-$E$20)/$E$22 -> 227.95782
A32: 0.11 | B32: =(NPV($A32,E$14:G$14)+(G$14*(1+B$26)/($A32-B$26))/(1+$A32)^3-$E$20)/$E$22 -> 129.68218 | C32: =(NPV($A32,E$14:G$14)+(G$14*(1+C$26)/($A32-C$26))/(1+$A32)^3-$E$20)/$E$22 -> 142.95673 | D32: =(NPV($A32,E$14:G$14)+(G$14*(1+D$26)/($A32-D$26))/(1+$A32)^3-$E$20)/$E$22 -> 158.44371 | E32: =(NPV($A32,E$14:G$14)+(G$14*(1+E$26)/($A32-E$26))/(1+$A32)^3-$E$20)/$E$22 -> 176.7465 | F32: =(NPV($A32,E$14:G$14)+(G$14*(1+F$26)/($A32-F$26))/(1+$A32)^3-$E$20)/$E$22 -> 198.70985
A33: 0.115 | B33: =(NPV($A33,E$14:G$14)+(G$14*(1+B$26)/($A33-B$26))/(1+$A33)^3-$E$20)/$E$22 -> 116.76696 | C33: =(NPV($A33,E$14:G$14)+(G$14*(1+C$26)/($A33-C$26))/(1+$A33)^3-$E$20)/$E$22 -> 128.16863 | D33: =(NPV($A33,E$14:G$14)+(G$14*(1+D$26)/($A33-D$26))/(1+$A33)^3-$E$20)/$E$22 -> 141.32439 | E33: =(NPV($A33,E$14:G$14)+(G$14*(1+E$26)/($A33-E$26))/(1+$A33)^3-$E$20)/$E$22 -> 156.67278 | F33: =(NPV($A33,E$14:G$14)+(G$14*(1+F$26)/($A33-F$26))/(1+$A33)^3-$E$20)/$E$22 -> 174.81179
A34: 0.12 | B34: =(NPV($A34,E$14:G$14)+(G$14*(1+B$26)/($A34-B$26))/(1+$A34)^3-$E$20)/$E$22 -> 105.48777 | C34: =(NPV($A34,E$14:G$14)+(G$14*(1+C$26)/($A34-C$26))/(1+$A34)^3-$E$20)/$E$22 -> 115.37535 | D34: =(NPV($A34,E$14:G$14)+(G$14*(1+D$26)/($A34-D$26))/(1+$A34)^3-$E$20)/$E$22 -> 126.67544 | E34: =(NPV($A34,E$14:G$14)+(G$14*(1+E$26)/($A34-E$26))/(1+$A34)^3-$E$20)/$E$22 -> 139.71401 | F34: =(NPV($A34,E$14:G$14)+(G$14*(1+F$26)/($A34-F$26))/(1+$A34)^3-$E$20)/$E$22 -> 154.92567
A35: 0.125 | B35: =(NPV($A35,E$14:G$14)+(G$14*(1+B$26)/($A35-B$26))/(1+$A35)^3-$E$20)/$E$22 -> 95.555548 | C35: =(NPV($A35,E$14:G$14)+(G$14*(1+C$26)/($A35-C$26))/(1+$A35)^3-$E$20)/$E$22 -> 104.20251 | D35: =(NPV($A35,E$14:G$14)+(G$14*(1+D$26)/($A35-D$26))/(1+$A35)^3-$E$20)/$E$22 -> 114.00239 | E35: =(NPV($A35,E$14:G$14)+(G$14*(1+E$26)/($A35-E$26))/(1+$A35)^3-$E$20)/$E$22 -> 125.20226 | F35: =(NPV($A35,E$14:G$14)+(G$14*(1+F$26)/($A35-F$26))/(1+$A35)^3-$E$20)/$E$22 -> 138.12518
A37: Comparable company valuation
A38: Company | B38: Market cap (Rs cr) | C38: P/E (x) | D38: EV/EBITDA (x) | E38: ROE % | F38: EBITDA margin % | G38: Revenue growth YoY % | H38: Notes
A39: Symbiotec Pharmalab (FY26 basis) | B39: =Summary!B7 -> 8208.1205 | C39: =Summary!B7/'Income Statement'!D27 -> 74.693971 | D39: =(Summary!B7+'Balance Sheet'!D26+'Balance Sheet'!D27+'Balance Sheet'!D33-'Balance Sheet'!D13-'Cash Flow'!E23)/'Income Statement'!D19 -> 35.025486 | E39: ='Income Statement'!D27/'Balance Sheet'!D24*100 -> 9.5590602 | F39: ='Income Statement'!D20*100 -> 27.621351 | G39: ='Income Statement'!D10*100 -> 15.647661
A40: Concord Biotech | B40: 14018 | C40: 49.3 | D40: 30.8 | E40: 12.6 | F40: 36 | H40: Closest listed comparable on API and fermentation mix
A41: Divi's Laboratories | B41: 244493 | C41: 82.1 | D41: 54.6 | E41: 16.5 | F41: 33 | G41: 12.82 | H41: Largest API and CRAMS peer
A42: Laurus Labs | B42: 111168 | C42: 102 | D42: 54.4 | E42: 18.3 | F42: 26 | G42: 22.67 | H42: CDMO and API peer with a similar margin structure
A43: Gufic Biosciences | B43: 4013 | C43: 54.6 | D43: 26 | E43: 9.98 | F43: 16 | G43: 17.72 | H43: Named competitor in double-chamber vials
...

Sheet PAT Scenarios
A1: FY29E scenario build: bear, base and bull
A2: All figures in Rs crore unless stated. Base links to the Income Statement and ties to it (check in row 25). Bear and bull change only the four drivers in rows 6 to 9.
A4: Particulars | B4: Bear | C4: Base | D4: Bull | E4: Notes / basis
A5: A. Scenario drivers
A6: API revenue growth p.a. (FY26A to FY29E) | B6: 0.05 | C6: =('Income Statement'!G3/'Income Statement'!D3)^(1/3)-1 -> 0.08 | D6: 0.1 | E6: Bear: end markets grow only 1.6-3.0% (corticosteroids) and 1.0-2.5% (hormones), with little share gain and the 700 KL capacity filling slowly. Bull: China-plus-one share gains and the 700 KL capacity fully absorbed.
A7: DCV: Mhow capacity utilisation (FY29E) | B7: 0.2 | C7: ='Income Statement'!G39 -> 0.6695 | D7: 0.85 | E7: Bear: US 505(b)(2) approval slips past FY29, so only the two existing approved DCV products sell (FY26 ran at about 7.5%). Bull: both US products approved and gaining share, close to the 20 million vial nameplate.
A8: CDMO: Ujjain capacity utilisation (FY29E) | B8: 0.4 | C8: ='Income Statement'!G48 -> 0.7 | D8: 0.9 | E8: Bear: take-or-pay contracts ramp slowly and the European alternate-protein term sheet does not convert. Bull: all signed contracts at run-rate plus the European term sheet, near full use of the 400 KL plant.
A9: EBITDA margin on revenue from operations (EBITDA includes other income, as on the Income Statement) | B9: 0.26 | C9: ='Income Statement'!G19/'Income Statement'!G9 -> 0.29373836 | D9: 0.32 | E9: Bear: the new Mhow and Ujjain plants carry fixed costs at low utilisation (FY24 margin was about 24.5%). Bull: operating leverage plus a richer CDMO mix (management guides CDMO gross margin above 70%).
A11: B. FY29E profit and loss
A12: API revenue | B12: ='Income Statement'!$D$3*(1+B6)^3 -> 966.62845 | C12: ='Income Statement'!$D$3*(1+C6)^3 -> 1051.8721 | D12: ='Income Statement'!$D$3*(1+D6)^3 -> 1111.3983 | E12: FY26A API revenue compounded at the growth in row 6
A13: Complex injectables (DCV) revenue | B13: ='Income Statement'!$G$38*B7*'Income Statement'!$B$43/10^7 -> 88 | C13: ='Income Statement'!$G$38*C7*'Income Statement'!$B$43/10^7 -> 294.58 | D13: ='Income Statement'!$G$38*D7*'Income Statement'!$B$43/10^7 -> 374 | E13: Mhow nameplate vials x utilisation x price per vial (Income Statement G38, B43)
A14: CDMO services revenue | B14: ='Income Statement'!$G$47*B8*'Income Statement'!$G$49 -> 160 | C14: ='Income Statement'!$G$47*C8*'Income Statement'!$G$49 -> 280 | D14: ='Income Statement'!$G$47*D8*'Income Statement'!$G$49 -> 360 | E14: Ujjain KL capacity x utilisation x blended rate per KL (Income Statement G47, G49)
A15: Revenue from operations | B15: =SUM(B12:B14) -> 1214.6285 | C15: =SUM(C12:C14) -> 1626.4521 | D15: =SUM(D12:D14) -> 1845.3983
A16: Revenue CAGR (FY26A to FY29E) | B16: =(B15/'Income Statement'!$D$9)^(1/3)-1 -> 0.11802 | C16: =(C15/'Income Statement'!$D$9)^(1/3)-1 -> 0.23229735 | D16: =(D15/'Income Statement'!$D$9)^(1/3)-1 -> 0.28528211
A17: EBITDA | B17: =B15*B9 -> 315.8034 | C17: =C15*C9 -> 477.75138 | D17: =D15*D9 -> 590.52746
A18: Less: Depreciation and amortisation | B18: ='Income Statement'!$G$21 -> 119.32489 | C18: ='Income Statement'!$G$21 -> 119.32489 | D18: ='Income Statement'!$G$21 -> 119.32489 | E18: Held at base: the plants are already built, so capex and depreciation do not differ much between cases
A19: Less: Finance cost | B19: ='Income Statement'!$G$23 -> 22.971 | C19: ='Income Statement'!$G$23 -> 22.971 | D19: ='Income Statement'!$G$23 -> 22.971 | E19: Held at base
A20: Profit before tax | B20: =B17-B18-B19 -> 173.5075 | C20: =C17-C18-C19 -> 335.45549 | D20: =D17-D18-D19 -> 448.23157
A21: Tax expense | B21: =B20*Summary!$B$8 -> 43.668369 | C21: =C20*Summary!$B$8 -> 84.427438 | D21: =D20*Summary!$B$8 -> 112.81092
A22: FY29E profit after tax | B22: =B20-B21 -> 129.83914 | C22: =C20-C21 -> 251.02805 | D22: =D20-D21 -> 335.42065 | E22: Feeds Summary C26 (bear) and C28 (bull). Summary C27 (base) still links to the Income Statement
A23: PAT margin on revenue from operations | B23: =B22/B15 -> 0.10689617 | C23: =C22/C15 -> 0.15434088 | D23: =D22/D15 -> 0.18176057
C25: =C22-'Income Statement'!G27 -> 0

Sheet DCF backend data
A1: WACC Calculation
A2: Particulars | K2: Date | L2: CNX500 | M2: % chng | O2: Concord Biotech | P2: % return | S2: Divi’s Laboratories | T2: % return | W2: Laurus Labs | X2: % return | AA2: Gufic Biosciences | AB2: % return
A3: 10y Gov Bond | B3: 0.07382 | K3: 44197 | L3: 11574.85
A4: Bond default spread | B4: 0.0175 | K4: 44200 | L4: 11691.8 | M4: =L4/L3-1 -> 0.01010382 | O4: starting from 18/8/23 | Q4: Levered beta | R4: =SLOPE(P655:P1438,$M$655:$M$1438) -> 0.82461044 | S4: starting from 18/8/23 | U4: Levered beta | V4: =SLOPE(T655:T1438,$M$655:$M$1438) -> 0.69586051 | W4: starting from 18/8/23 | Y4: Levered beta | Z4: =SLOPE(X655:X1438,$M$655:$M$1438) -> 1.1293578 | AA4: starting from 18/8/23 | AC4: Levered beta | AD4: =SLOPE(AB655:AB1438,$M$655:$M$1438) -> 0.87953761 | AF4: Total avg unlevered beta
A5: Rf | B5: =B3-B4 -> 0.05632 | K5: 44201 | L5: 11767 | M5: =L5/L4-1 -> 0.006431875 | O5: scroll below | Q5: Mkt (D/E) | R5: 0 | S5: scroll below | U5: Mkt (D/E) | V5: 0 | W5: scroll below | Y5: Mkt (D/E) | Z5: 0.069 | AA5: scroll below | AC5: Mkt (D/E) | AD5: 0.116 | AF5: =AVERAGE(R7,V7,Z7,AD7) -> 0.85091646
K6: 44202 | L6: 11737.9 | M6: =L6/L5-1 -> -0.0024729846 | Q6: Tax rate | R6: =Summary!B8 -> 0.25168 | U6: Tax rate | V6: =Summary!B8 -> 0.25168 | Y6: Tax rate | Z6: =Summary!B8 -> 0.25168 | AC6: Tax rate | AD6: =Summary!B8 -> 0.25168
A7: Mature market ERP | B7: 0.042 | D7: Revenue sources (%) | G7: Western Europe ERP | H7: 0.0513 | K7: 44203 | L7: 11766.1 | M7: =L7/L6-1 -> 0.0024024074 | Q7: unlevered beta | R7: =R4/(1+(1-R6)*R5) -> 0.82461044 | U7: unlevered beta | V7: =V4/(1+(1-V6)*V5) -> 0.69586051 | Y7: unlevered beta | Z7: =Z4/(1+(1-Z6)*Z5) -> 1.0739076 | AC7: unlevered beta | AD7: =AD4/(1+(1-AD6)*AD5) -> 0.80928733
A8: Default spread | B8: =B4 -> 0.0175 | D8: Domestic | E8: 0.3 | G8: North America ERP | H8: 0.044 | K8: 44204 | L8: 11925.6 | M8: =L8/L7-1 -> 0.013555894
A9: India country risk premium | B9: =B8*B10 -> 0.02720375 | D9: International | E9: =1-E8 -> 0.7 | G9: Rest of world ERP | H9: 0.0804 | K9: 44207 | L9: 12006.5 | M9: =L9/L8-1 -> 0.0067837587
A10: Damodaran relative equity volatility | B10: 1.5545 | G10: Avg EU+NA+ROW ERP | H10: =AVERAGE(H7:H9) -> 0.058566667 | K10: 44208 | L10: 12058.35 | M10: =L10/L9-1 -> 0.0043184616
D11: Revenue weighted ERP | K11: 44209 | L11: 12041.1 | M11: =L11/L10-1 -> -0.001430544
A12: India ERP | B12: =B7+B9 -> 0.06920375 | D12: India ERP | E12: =B12*E8 -> 0.020761125 | K12: 44210 | L12: 12069.5 | M12: =L12/L11-1 -> 0.002358621
A13: EU+NA+ROW ERP | B13: =H10 -> 0.058566667 | D13: Rest of World | E13: =B13*E9 -> 0.040996667 | K13: 44211 | L13: 11931.2 | M13: =L13/L12-1 -> -0.011458619
A14: Total ERP | B14: =SUM(E12:E13) -> 0.061757792 | K14: 44214 | L14: 11776.2 | M14: =L14/L13-1 -> -0.012991149
K15: 44215 | L15: 11981.85 | M15: =L15/L14-1 -> 0.017463138
A16: Unlevered beta (Sector) | B16: =AF5 -> 0.85091646 | K16: 44216 | L16: 12078.35 | M16: =L16/L15-1 -> 0.0080538484
A17: Target Mkt (D/E) | B17: =(AVERAGE(('Balance Sheet'!E26+'Balance Sheet'!E27+'Balance Sheet'!E33),('Balance Sheet'!F26+'Balance Sheet'!F27+'Balance Sheet'!F33),('Balance Sheet'!G26+'Balance Sheet'!G27+'Balance Sheet'!G33)))/Summary!B7 -> 0.046661109 | K17: 44217 | L17: 12015.95 | M17: =L17/L16-1 -> -0.0051662202
A18: Tax rate | B18: =Summary!B8 -> 0.25168 | K18: 44218 | L18: 11854.5 | M18: =L18/L17-1 -> -0.013436324
A19: Re-levered beta | B19: =B16*(1+(1-B18)*B17) -> 0.88062829 | K19: 44221 | L19: 11743.7 | M19: =L19/L18-1 -> -0.0093466451
K20: 44223 | L20: 11546.35 | M20: =L20/L19-1 -> -0.016804805
A21: Cost of equity | B21: =B5+(B19*B14) -> 0.11070566 | K21: 44224 | L21: 11442.55 | M21: =L21/L20-1 -> -0.0089898373
K22: 44225 | L22: 11302.4 | M22: =L22/L21-1 -> -0.012248093
A23: Pretax cost of debt | B23: 0.082 | K23: 44228 | L23: 11770.15 | M23: =L23/L22-1 -> 0.041385014
A24: Tax rate | B24: =Summary!B8 -> 0.25168 | K24: 44229 | L24: 12053.25 | M24: =L24/L23-1 -> 0.024052336
A25: Post tax cost of debt | B25: =B23*(1-B24) -> 0.06136224 | K25: 44230 | L25: 12174.05 | M25: =L25/L24-1 -> 0.010022177
K26: 44231 | L26: 12285.85 | M26: =L26/L25-1 -> 0.0091834522
A27: Debt weight, D/(D+E) | B27: =B17/(1+B17) -> 0.044580914 | K27: 44232 | L27: 12279.85 | M27: =L27/L26-1 -> -0.00048836671
A28: Equity weight, E/(D+E) | B28: =1-B27 -> 0.95541909 | K28: 44235 | L28: 12441.3 | M28: =L28/L27-1 -> 0.013147571
K29: 44236 | L29: 12434.2 | M29: =L29/L28-1 -> -0.00057064852
A30: WACC | B30: =(B27*B25)+(B21*B28) -> 0.10850588 | K30: 44237 | L30: 12452.45 | M30: =L30/L29-1 -> 0.0014677261
K31: 44238 | L31: 12514.1 | M31: =L31/L30-1 -> 0.0049507858
K32: 44239 | L32: 12508.55 | M32: =L32/L31-1 -> -0.00044348414
K33: 44242 | L33: 12632.05 | M33: =L33/L32-1 -> 0.0098732469
K34: 44243 | L34: 12647.2 | M34: =L34/L33-1 -> 0.0011993612
K35: 44244 | L35: 12597.45 | M35: =L35/L34-1 -> -0.003933677
K36: 44245 | L36: 12565.7 | M36: =L36/L35-1 -> -0.0025203513
K37: 44246 | L37: 12438.8 | M37: =L37/L36-1 -> -0.010098951
K38: 44249 | L38: 12212.55 | M38: =L38/L37-1 -> -0.018189054
K39: 44250 | L39: 12263.7 | M39: =L39/L38-1 -> 0.0041883465
K40: 44251 | L40: 12455.2 | M40: =L40/L39-1 -> 0.015615189
...
